BEGIN:VCALENDAR
VERSION:2.0
PRODID:-//151.101.66.159//NONSGML kigkonsult.se iCalcreator 2.26.9//
CALSCALE:GREGORIAN
METHOD:PUBLISH
X-WR-CALNAME:South Kalgoorlie Primary School
X-WR-CALDESC:South Kalgoorlie Primary School
X-FROM-URL:https://southkalgoorlieps.wa.edu.au
X-WR-TIMEZONE:Australia/Perth
BEGIN:VTIMEZONE
TZID:Australia/Perth
X-LIC-LOCATION:Australia/Perth
BEGIN:STANDARD
DTSTART:20090329T030000
TZOFFSETFROM:+0900
TZOFFSETTO:+0800
TZNAME:AWST
END:STANDARD
END:VTIMEZONE
BEGIN:VEVENT
UID:ai1ec-6650@www.southkalgoorlieps.wa.edu.au
DTSTAMP:20210228T125614Z
CATEGORIES:
CONTACT:
DESCRIPTION:All families are invited to our Celebration of Learning Day\, w
 hich will include the Year 6 Graduation and End of Year Book Awards\, on T
 hursday 6th December.  The ceremony will be held in the undercover area be
 tween 9-10:30am. Afterwards\,  classrooms will be open until 12pm for fami
 lies to go and see the learning that has taken place this year.\n \nWe hop
 e to see as many there as possible.
DTSTART;TZID=Australia/Perth:20181206T090000
DTEND;TZID=Australia/Perth:20181206T110000
LOCATION:South Kalgoorlie Primary School
SEQUENCE:0
SUMMARY:2018 Celebration of Learning Day
URL:https://southkalgoorlieps.wa.edu.au/event/celebration-learning-day-2/
X-COST-TYPE:free
X-ALT-DESC;FMTTYPE=text/html:<!DOCTYPE HTML PUBLIC '-//W3C//DTD HTML 3.2//E
 N'>\\n<HTML>\\n<HEAD>\\n<TITLE></TITLE>\\n</HEAD>\\n<BODY><p>All families 
 are invited to our Celebration of Learning Day\, which will include the Ye
 ar 6 Graduation and End of Year Book Awards\, on Thursday 6th December.  T
 he ceremony will be held in the undercover area between 9-10:30am. Afterwa
 rds\,  classrooms will be open until 12pm for families to go and see the l
 earning that has taken place this year.</p>\n<p> </p>\n<p>We hope to see a
 s many there as possible.</p>\n</BODY></HTML>
END:VEVENT
END:VCALENDAR
