BEGIN:VCALENDAR
VERSION:2.0
PRODID:-//151.101.66.159//NONSGML kigkonsult.se iCalcreator 2.26.9//
CALSCALE:GREGORIAN
METHOD:PUBLISH
X-WR-CALNAME:South Kalgoorlie Primary School
X-WR-CALDESC:South Kalgoorlie Primary School
X-FROM-URL:https://southkalgoorlieps.wa.edu.au
X-WR-TIMEZONE:Australia/Perth
BEGIN:VTIMEZONE
TZID:Australia/Perth
X-LIC-LOCATION:Australia/Perth
BEGIN:STANDARD
DTSTART:20090329T030000
TZOFFSETFROM:+0900
TZOFFSETTO:+0800
TZNAME:AWST
END:STANDARD
END:VTIMEZONE
BEGIN:VEVENT
UID:ai1ec-6716@www.southkalgoorlieps.wa.edu.au
DTSTAMP:20210228T125503Z
CATEGORIES:
CONTACT:
DESCRIPTION:
DTSTART;TZID=Australia/Perth:20181019T084500
DTEND;TZID=Australia/Perth:20181019T094500
RDATE;TZID=Australia/Perth:20181102T084500
RDATE;TZID=Australia/Perth:20181116T084500
RDATE;TZID=Australia/Perth:20181130T084500
RDATE;TZID=Australia/Perth:20181213T084500
SEQUENCE:0
SUMMARY:Assembly
URL:https://southkalgoorlieps.wa.edu.au/event/assembly/
X-COST-TYPE:free
END:VEVENT
END:VCALENDAR
