BEGIN:VCALENDAR
VERSION:2.0
PRODID:-//151.101.66.159//NONSGML kigkonsult.se iCalcreator 2.26.9//
CALSCALE:GREGORIAN
METHOD:PUBLISH
X-WR-CALNAME:South Kalgoorlie Primary School
X-WR-CALDESC:South Kalgoorlie Primary School
X-FROM-URL:https://southkalgoorlieps.wa.edu.au
X-WR-TIMEZONE:Australia/Perth
BEGIN:VTIMEZONE
TZID:Australia/Perth
X-LIC-LOCATION:Australia/Perth
BEGIN:STANDARD
DTSTART:20090329T030000
TZOFFSETFROM:+0900
TZOFFSETTO:+0800
TZNAME:AWST
END:STANDARD
END:VTIMEZONE
BEGIN:VEVENT
UID:ai1ec-6773@www.southkalgoorlieps.wa.edu.au
DTSTAMP:20210228T125436Z
CATEGORIES:
CONTACT:
DESCRIPTION:
DTSTART;TZID=Australia/Perth:20181018T084500
DTEND;TZID=Australia/Perth:20181018T101500
EXDATE;TZID=Australia/Perth:20181206T084500
EXDATE;TZID=Australia/Perth:20181213T084500
RDATE;TZID=Australia/Perth:20181025T084500
RDATE;TZID=Australia/Perth:20181101T084500
RDATE;TZID=Australia/Perth:20181115T084500
RDATE;TZID=Australia/Perth:20181122T084500
RDATE;TZID=Australia/Perth:20181129T084500
RDATE;TZID=Australia/Perth:20181206T084500
RDATE;TZID=Australia/Perth:20181213T084500
SEQUENCE:0
SUMMARY:Peas in a Pod
URL:https://southkalgoorlieps.wa.edu.au/event/peas-in-a-pod/
X-COST-TYPE:free
END:VEVENT
END:VCALENDAR
