BEGIN:VCALENDAR
VERSION:2.0
PRODID:-//151.101.66.159//NONSGML kigkonsult.se iCalcreator 2.26.9//
CALSCALE:GREGORIAN
METHOD:PUBLISH
X-WR-CALNAME:South Kalgoorlie Primary School
X-WR-CALDESC:South Kalgoorlie Primary School
X-FROM-URL:https://southkalgoorlieps.wa.edu.au
X-WR-TIMEZONE:Australia/Perth
BEGIN:VTIMEZONE
TZID:Australia/Perth
X-LIC-LOCATION:Australia/Perth
BEGIN:STANDARD
DTSTART:20090329T030000
TZOFFSETFROM:+0900
TZOFFSETTO:+0800
TZNAME:AWST
END:STANDARD
END:VTIMEZONE
BEGIN:VEVENT
UID:ai1ec-6813@www.southkalgoorlieps.wa.edu.au
DTSTAMP:20210228T130021Z
CATEGORIES:
CONTACT:
DESCRIPTION:South Kalgoorlie Primary School will be closed to students on M
 onday 25th February (Weeks 4) due to all staff attending a Mathematics Pro
 fessional Learning Day.
DTSTART;TZID=Australia/Perth:20190225T083000
DTEND;TZID=Australia/Perth:20190225T145000
SEQUENCE:0
SUMMARY:School Development Day (Pupil Free Day)
URL:https://southkalgoorlieps.wa.edu.au/event/school-development-day-pupil-
 free-day/
X-COST-TYPE:free
X-ALT-DESC;FMTTYPE=text/html:<!DOCTYPE HTML PUBLIC '-//W3C//DTD HTML 3.2//E
 N'>\\n<HTML>\\n<HEAD>\\n<TITLE></TITLE>\\n</HEAD>\\n<BODY><p>South Kalgoor
 lie Primary School will be closed to students on Monday 25th February (Wee
 ks 4) due to all staff attending a Mathematics Professional Learning Day.<
 /p>\n</BODY></HTML>
END:VEVENT
END:VCALENDAR
