BEGIN:VCALENDAR
VERSION:2.0
PRODID:-//151.101.66.159//NONSGML kigkonsult.se iCalcreator 2.26.9//
CALSCALE:GREGORIAN
METHOD:PUBLISH
X-WR-CALNAME:South Kalgoorlie Primary School
X-WR-CALDESC:South Kalgoorlie Primary School
X-FROM-URL:https://southkalgoorlieps.wa.edu.au
X-WR-TIMEZONE:Australia/Perth
BEGIN:VTIMEZONE
TZID:Australia/Perth
X-LIC-LOCATION:Australia/Perth
BEGIN:STANDARD
DTSTART:20090329T030000
TZOFFSETFROM:+0900
TZOFFSETTO:+0800
TZNAME:AWST
END:STANDARD
END:VTIMEZONE
BEGIN:VEVENT
UID:ai1ec-6831@www.southkalgoorlieps.wa.edu.au
DTSTAMP:20210228T125909Z
CATEGORIES:
CONTACT:
DESCRIPTION:Come and meet your child’s teacher in their classroom to discus
 s whole class expectations for the upcoming year.\nKindy to Year 2 – 300pm
 -3:30pm\nYear 3 to Year 6 – 3:30pm-4:00pm\nIf you wish to make a time to d
 iscuss your individual child\, please see the class teacher about making a
  meeting time.
DTSTART;TZID=Australia/Perth:20190220T150000
DTEND;TZID=Australia/Perth:20190220T160000
SEQUENCE:0
SUMMARY:Parent Information Sessions
URL:https://southkalgoorlieps.wa.edu.au/event/parent-information-sessions/
X-COST-TYPE:free
X-ALT-DESC;FMTTYPE=text/html:<!DOCTYPE HTML PUBLIC '-//W3C//DTD HTML 3.2//E
 N'>\\n<HTML>\\n<HEAD>\\n<TITLE></TITLE>\\n</HEAD>\\n<BODY><p>Come and meet
  your child’s teacher in their classroom to discuss whole class expectatio
 ns for the upcoming year.<br />\nKindy to Year 2 – 300pm-3:30pm<br />\nYea
 r 3 to Year 6 – 3:30pm-4:00pm</p>\n<p>If you wish to make a time to discus
 s your individual child\, please see the class teacher about making a meet
 ing time.</p>\n</BODY></HTML>
END:VEVENT
END:VCALENDAR
