BEGIN:VCALENDAR
VERSION:2.0
PRODID:-//151.101.66.159//NONSGML kigkonsult.se iCalcreator 2.26.9//
CALSCALE:GREGORIAN
METHOD:PUBLISH
X-WR-CALNAME:South Kalgoorlie Primary School
X-WR-CALDESC:South Kalgoorlie Primary School
X-FROM-URL:https://southkalgoorlieps.wa.edu.au
X-WR-TIMEZONE:Australia/Perth
BEGIN:VTIMEZONE
TZID:Australia/Perth
X-LIC-LOCATION:Australia/Perth
BEGIN:STANDARD
DTSTART:20090329T030000
TZOFFSETFROM:+0900
TZOFFSETTO:+0800
TZNAME:AWST
END:STANDARD
END:VTIMEZONE
BEGIN:VEVENT
UID:ai1ec-6832@www.southkalgoorlieps.wa.edu.au
DTSTAMP:20210228T130057Z
CATEGORIES:
CONTACT:
DESCRIPTION:More information to come closer to the event
DTSTART;TZID=Australia/Perth:20190307T150000
DTEND;TZID=Australia/Perth:20190307T180000
SEQUENCE:0
SUMMARY:SKPS Disco
URL:https://southkalgoorlieps.wa.edu.au/event/skps-disco/
X-COST-TYPE:free
X-ALT-DESC;FMTTYPE=text/html:<!DOCTYPE HTML PUBLIC '-//W3C//DTD HTML 3.2//E
 N'>\\n<HTML>\\n<HEAD>\\n<TITLE></TITLE>\\n</HEAD>\\n<BODY><p>More informat
 ion to come closer to the event</p>\n</BODY></HTML>
END:VEVENT
END:VCALENDAR
