BEGIN:VCALENDAR
VERSION:2.0
PRODID:-//151.101.66.159//NONSGML kigkonsult.se iCalcreator 2.26.9//
CALSCALE:GREGORIAN
METHOD:PUBLISH
X-WR-CALNAME:South Kalgoorlie Primary School
X-WR-CALDESC:South Kalgoorlie Primary School
X-FROM-URL:https://southkalgoorlieps.wa.edu.au
X-WR-TIMEZONE:Australia/Perth
BEGIN:VTIMEZONE
TZID:Australia/Perth
X-LIC-LOCATION:Australia/Perth
BEGIN:STANDARD
DTSTART:20090329T030000
TZOFFSETFROM:+0900
TZOFFSETTO:+0800
TZNAME:AWST
END:STANDARD
END:VTIMEZONE
BEGIN:VEVENT
UID:ai1ec-6833@www.southkalgoorlieps.wa.edu.au
DTSTAMP:20210228T130133Z
CATEGORIES:
CONTACT:
DESCRIPTION:Come and support our Year 4-6 students as they compete for thei
 r faction.
DTSTART;TZID=Australia/Perth:20190308T090000
DTEND;TZID=Australia/Perth:20190308T143000
LOCATION:Goldfields Oasis
SEQUENCE:0
SUMMARY:SKPS Swimming Carnival
URL:https://southkalgoorlieps.wa.edu.au/event/skps-swimming-carnival/
X-COST-TYPE:free
X-ALT-DESC;FMTTYPE=text/html:<!DOCTYPE HTML PUBLIC '-//W3C//DTD HTML 3.2//E
 N'>\\n<HTML>\\n<HEAD>\\n<TITLE></TITLE>\\n</HEAD>\\n<BODY><div class='_62h
 s _4-u3'>\n<div class='_63es _63et'>\n<div class='_63eu'>\n<div class='_63
 ew' data-testid='event-permalink-details'>Come and support our Year 4-6 st
 udents as they compete for their faction.</div>\n</div>\n</div>\n</div>\n<
 /BODY></HTML>
END:VEVENT
END:VCALENDAR
