BEGIN:VCALENDAR
VERSION:2.0
PRODID:-//151.101.66.159//NONSGML kigkonsult.se iCalcreator 2.26.9//
CALSCALE:GREGORIAN
METHOD:PUBLISH
X-WR-CALNAME:South Kalgoorlie Primary School
X-WR-CALDESC:South Kalgoorlie Primary School
X-FROM-URL:https://southkalgoorlieps.wa.edu.au
X-WR-TIMEZONE:Australia/Perth
BEGIN:VTIMEZONE
TZID:Australia/Perth
X-LIC-LOCATION:Australia/Perth
BEGIN:STANDARD
DTSTART:20090329T030000
TZOFFSETFROM:+0900
TZOFFSETTO:+0800
TZNAME:AWST
END:STANDARD
END:VTIMEZONE
BEGIN:VEVENT
UID:ai1ec-7000@www.southkalgoorlieps.wa.edu.au
DTSTAMP:20210228T130719Z
CATEGORIES:
CONTACT:
DESCRIPTION:
DTSTART;TZID=Australia/Perth:20190828T090000
DTEND;TZID=Australia/Perth:20190828T100000
RDATE;TZID=Australia/Perth:20190829T090000
SEQUENCE:0
SUMMARY:Father’s Day Stall
URL:https://southkalgoorlieps.wa.edu.au/event/fathers-day-stall/
X-COST-TYPE:free
END:VEVENT
END:VCALENDAR
