BEGIN:VCALENDAR
VERSION:2.0
PRODID:-//151.101.66.159//NONSGML kigkonsult.se iCalcreator 2.26.9//
CALSCALE:GREGORIAN
METHOD:PUBLISH
X-WR-CALNAME:South Kalgoorlie Primary School
X-WR-CALDESC:South Kalgoorlie Primary School
X-FROM-URL:https://southkalgoorlieps.wa.edu.au
X-WR-TIMEZONE:Australia/Perth
BEGIN:VTIMEZONE
TZID:Australia/Perth
X-LIC-LOCATION:Australia/Perth
BEGIN:STANDARD
DTSTART:20090329T030000
TZOFFSETFROM:+0900
TZOFFSETTO:+0800
TZNAME:AWST
END:STANDARD
END:VTIMEZONE
BEGIN:VEVENT
UID:ai1ec-7003@www.southkalgoorlieps.wa.edu.au
DTSTAMP:20210228T130926Z
CATEGORIES:
CONTACT:
DESCRIPTION:Junior Disco (Kindy – Year 2) – 3:15pm to 4:30pm\nSenior Disco 
 (Year 3 – Year 6) – 4:30pm to 6:00pm
DTSTART;TZID=Australia/Perth:20190925T151500
DTEND;TZID=Australia/Perth:20190925T180000
SEQUENCE:0
SUMMARY:Disco
URL:https://southkalgoorlieps.wa.edu.au/event/disco/
X-COST-TYPE:free
X-ALT-DESC;FMTTYPE=text/html:<!DOCTYPE HTML PUBLIC '-//W3C//DTD HTML 3.2//E
 N'>\\n<HTML>\\n<HEAD>\\n<TITLE></TITLE>\\n</HEAD>\\n<BODY><p>Junior Disco 
 (Kindy – Year 2) – 3:15pm to 4:30pm</p>\n<p>Senior Disco (Year 3 – Year 6)
  – 4:30pm to 6:00pm</p>\n</BODY></HTML>
END:VEVENT
END:VCALENDAR
